BEGIN:VCALENDAR
VERSION:2.0
PRODID:-//Carverdale Church - ECPv6.15.20//NONSGML v1.0//EN
CALSCALE:GREGORIAN
METHOD:PUBLISH
X-ORIGINAL-URL:https://carverdalechurch.org
X-WR-CALDESC:Events for Carverdale Church
REFRESH-INTERVAL;VALUE=DURATION:PT1H
X-Robots-Tag:noindex
X-PUBLISHED-TTL:PT1H
BEGIN:VTIMEZONE
TZID:America/Chicago
BEGIN:DAYLIGHT
TZOFFSETFROM:-0600
TZOFFSETTO:-0500
TZNAME:CDT
DTSTART:20250309T080000
END:DAYLIGHT
BEGIN:STANDARD
TZOFFSETFROM:-0500
TZOFFSETTO:-0600
TZNAME:CST
DTSTART:20251102T070000
END:STANDARD
BEGIN:DAYLIGHT
TZOFFSETFROM:-0600
TZOFFSETTO:-0500
TZNAME:CDT
DTSTART:20260308T080000
END:DAYLIGHT
BEGIN:STANDARD
TZOFFSETFROM:-0500
TZOFFSETTO:-0600
TZNAME:CST
DTSTART:20261101T070000
END:STANDARD
BEGIN:DAYLIGHT
TZOFFSETFROM:-0600
TZOFFSETTO:-0500
TZNAME:CDT
DTSTART:20270314T080000
END:DAYLIGHT
BEGIN:STANDARD
TZOFFSETFROM:-0500
TZOFFSETTO:-0600
TZNAME:CST
DTSTART:20271107T070000
END:STANDARD
END:VTIMEZONE
BEGIN:VEVENT
DTSTART;TZID=America/Chicago:20260614T000000
DTEND;TZID=America/Chicago:20260614T000000
DTSTAMP:20260419T101330
CREATED:20260220T160125Z
LAST-MODIFIED:20260220T160125Z
UID:865-1781395200-1781395200@carverdalechurch.org
SUMMARY:Mission of Yahweh Service
DESCRIPTION:Mission of Yahweh Service
URL:https://carverdalechurch.org/event/mission-of-yahweh-service-16/
END:VEVENT
BEGIN:VEVENT
DTSTART;TZID=America/Chicago:20260614T000000
DTEND;TZID=America/Chicago:20260614T000000
DTSTAMP:20260419T101330
CREATED:20260220T160125Z
LAST-MODIFIED:20260220T160125Z
UID:864-1781395200-1781395200@carverdalechurch.org
SUMMARY:63rd Carverdale Church Anniversary
DESCRIPTION:63rd Carverdale Church Anniversary
URL:https://carverdalechurch.org/event/63rd-carverdale-church-anniversary/
END:VEVENT
BEGIN:VEVENT
DTSTART;TZID=America/Chicago:20260620T000000
DTEND;TZID=America/Chicago:20260620T000000
DTSTAMP:20260419T101330
CREATED:20260220T160126Z
LAST-MODIFIED:20260220T160126Z
UID:866-1781913600-1781913600@carverdalechurch.org
SUMMARY:TXSW#1 - Hospitality Tea (Austin\, TX)
DESCRIPTION:TXSW#1 – Hospitality Tea (Austin\, TX)
URL:https://carverdalechurch.org/event/txsw1-hospitality-tea-austin-tx/
END:VEVENT
BEGIN:VEVENT
DTSTART;TZID=America/Chicago:20260621T000000
DTEND;TZID=America/Chicago:20260621T000000
DTSTAMP:20260419T101330
CREATED:20260220T160126Z
LAST-MODIFIED:20260220T160126Z
UID:867-1782000000-1782000000@carverdalechurch.org
SUMMARY:Father's Day
DESCRIPTION:Father’s Day
URL:https://carverdalechurch.org/event/fathers-day-2/
END:VEVENT
BEGIN:VEVENT
DTSTART;TZID=America/Chicago:20260706T000000
DTEND;TZID=America/Chicago:20260710T000000
DTSTAMP:20260419T101330
CREATED:20260220T160139Z
LAST-MODIFIED:20260220T160139Z
UID:868-1783296000-1783641600@carverdalechurch.org
SUMMARY:COGIC National AIM Convention (Baltimore\, Maryland)
DESCRIPTION:COGIC National AIM Convention (Baltimore\, Maryland)
URL:https://carverdalechurch.org/event/cogic-national-aim-convention-baltimore-maryland/
END:VEVENT
BEGIN:VEVENT
DTSTART;TZID=America/Chicago:20260712T000000
DTEND;TZID=America/Chicago:20260712T000000
DTSTAMP:20260419T101330
CREATED:20260220T160140Z
LAST-MODIFIED:20260220T160140Z
UID:869-1783814400-1783814400@carverdalechurch.org
SUMMARY:Mission of Yahweh Service
DESCRIPTION:Mission of Yahweh Service
URL:https://carverdalechurch.org/event/mission-of-yahweh-service-17/
END:VEVENT
BEGIN:VEVENT
DTSTART;TZID=America/Chicago:20260719T000000
DTEND;TZID=America/Chicago:20260719T000000
DTSTAMP:20260419T101330
CREATED:20260220T160140Z
LAST-MODIFIED:20260220T160140Z
UID:870-1784419200-1784419200@carverdalechurch.org
SUMMARY:TXSW#1 - Regional Pre-Musicals (Region 5-Houston)
DESCRIPTION:TXSW#1 – Regional Pre-Musicals (Region 5-Houston)
URL:https://carverdalechurch.org/event/txsw1-regional-pre-musicals-region-5-houston-2/
END:VEVENT
BEGIN:VEVENT
DTSTART;TZID=America/Chicago:20260721T000000
DTEND;TZID=America/Chicago:20260725T000000
DTSTAMP:20260419T101330
CREATED:20260220T160141Z
LAST-MODIFIED:20260220T160141Z
UID:871-1784592000-1784937600@carverdalechurch.org
SUMMARY:TXSW#1 - Holy Convocation (Waco\, TX)
DESCRIPTION:TXSW#1 – Holy Convocation (Waco\, TX)
URL:https://carverdalechurch.org/event/txsw1-holy-convocation-waco-tx-2/
END:VEVENT
BEGIN:VEVENT
DTSTART;TZID=America/Chicago:20260729T000000
DTEND;TZID=America/Chicago:20260731T000000
DTSTAMP:20260419T101330
CREATED:20260220T160142Z
LAST-MODIFIED:20260220T160142Z
UID:872-1785283200-1785456000@carverdalechurch.org
SUMMARY:CCF Vacation Bible School
DESCRIPTION:CCF Vacation Bible School
URL:https://carverdalechurch.org/event/ccf-vacation-bible-school-3/
END:VEVENT
BEGIN:VEVENT
DTSTART;TZID=America/Chicago:20260809T000000
DTEND;TZID=America/Chicago:20260809T000000
DTSTAMP:20260419T101330
CREATED:20260220T160154Z
LAST-MODIFIED:20260220T160154Z
UID:873-1786233600-1786233600@carverdalechurch.org
SUMMARY:Mission of Yahweh Service
DESCRIPTION:Mission of Yahweh Service
URL:https://carverdalechurch.org/event/mission-of-yahweh-service-18/
END:VEVENT
BEGIN:VEVENT
DTSTART;TZID=America/Chicago:20260816T000000
DTEND;TZID=America/Chicago:20260816T000000
DTSTAMP:20260419T101330
CREATED:20260220T160154Z
LAST-MODIFIED:20260220T160154Z
UID:874-1786838400-1786838400@carverdalechurch.org
SUMMARY:CCF Total Music Ministry Event (Silent Voices)
DESCRIPTION:CCF Total Music Ministry Event (Silent Voices)
URL:https://carverdalechurch.org/event/ccf-total-music-ministry-event-silent-voices/
END:VEVENT
BEGIN:VEVENT
DTSTART;TZID=America/Chicago:20260822T000000
DTEND;TZID=America/Chicago:20260822T000000
DTSTAMP:20260419T101330
CREATED:20260220T160155Z
LAST-MODIFIED:20260220T160155Z
UID:875-1787356800-1787356800@carverdalechurch.org
SUMMARY:TXSW#1 - Business & Prof. Women's Conference
DESCRIPTION:TXSW#1 – Business & Prof. Women’s Conference
URL:https://carverdalechurch.org/event/txsw1-business-prof-womens-conference/
END:VEVENT
BEGIN:VEVENT
DTSTART;TZID=America/Chicago:20260830T000000
DTEND;TZID=America/Chicago:20260830T000000
DTSTAMP:20260419T101330
CREATED:20260220T160156Z
LAST-MODIFIED:20260220T160156Z
UID:876-1788048000-1788048000@carverdalechurch.org
SUMMARY:CCF Women's Day Service
DESCRIPTION:CCF Women’s Day Service
URL:https://carverdalechurch.org/event/ccf-womens-day-service-6/
END:VEVENT
BEGIN:VEVENT
DTSTART;TZID=America/Chicago:20260913T000000
DTEND;TZID=America/Chicago:20260913T000000
DTSTAMP:20260419T101330
CREATED:20260220T160156Z
LAST-MODIFIED:20260220T160156Z
UID:877-1789257600-1789257600@carverdalechurch.org
SUMMARY:Mission of Yahweh Service
DESCRIPTION:Mission of Yahweh Service
URL:https://carverdalechurch.org/event/mission-of-yahweh-service-19/
END:VEVENT
BEGIN:VEVENT
DTSTART;TZID=America/Chicago:20260918T000000
DTEND;TZID=America/Chicago:20260919T000000
DTSTAMP:20260419T101330
CREATED:20260220T160209Z
LAST-MODIFIED:20260220T160209Z
UID:878-1789689600-1789776000@carverdalechurch.org
SUMMARY:TXSW#1 - Pastors & Minister Wives Retreat
DESCRIPTION:TXSW#1 – Pastors & Minister Wives Retreat
URL:https://carverdalechurch.org/event/txsw1-pastors-minister-wives-retreat/
END:VEVENT
BEGIN:VEVENT
DTSTART;TZID=America/Chicago:20260920T153000
DTEND;TZID=America/Chicago:20260920T153000
DTSTAMP:20260419T101330
CREATED:20260220T160209Z
LAST-MODIFIED:20260220T160209Z
UID:879-1789918200-1789918200@carverdalechurch.org
SUMMARY:Love Central District Meeting at (Location: GNST)
DESCRIPTION:Love Central District Meeting at 3:30PM (Location: GNST)
URL:https://carverdalechurch.org/event/love-central-district-meeting-at-location-gnst/
END:VEVENT
BEGIN:VEVENT
DTSTART;TZID=America/Chicago:20261003T000000
DTEND;TZID=America/Chicago:20261003T000000
DTSTAMP:20260419T101330
CREATED:20260220T160210Z
LAST-MODIFIED:20260220T160210Z
UID:880-1790985600-1790985600@carverdalechurch.org
SUMMARY:TXSW#1 - Call Meeting (Houston\, TX)
DESCRIPTION:TXSW#1 – Call Meeting (Houston\, TX)
URL:https://carverdalechurch.org/event/txsw1-call-meeting-houston-tx/
END:VEVENT
BEGIN:VEVENT
DTSTART;TZID=America/Chicago:20261004T150000
DTEND;TZID=America/Chicago:20261004T150000
DTSTAMP:20260419T101330
CREATED:20260220T160210Z
LAST-MODIFIED:20260220T160210Z
UID:881-1791126000-1791126000@carverdalechurch.org
SUMMARY:Community Fellowship Service (Location: St. James)
DESCRIPTION:Community Fellowship Service 3PM (Location: St. James)
URL:https://carverdalechurch.org/event/community-fellowship-service-location-st-james/
END:VEVENT
BEGIN:VEVENT
DTSTART;TZID=America/Chicago:20261010T000000
DTEND;TZID=America/Chicago:20261010T000000
DTSTAMP:20260419T101330
CREATED:20260220T160211Z
LAST-MODIFIED:20260220T160211Z
UID:882-1791590400-1791590400@carverdalechurch.org
SUMMARY:TXSW#1 - Prayer & Bible Band Tea (Virtual)
DESCRIPTION:TXSW#1 – Prayer & Bible Band Tea (Virtual)
URL:https://carverdalechurch.org/event/txsw1-prayer-bible-band-tea-virtual/
END:VEVENT
BEGIN:VEVENT
DTSTART;TZID=America/Chicago:20261011T000000
DTEND;TZID=America/Chicago:20261011T000000
DTSTAMP:20260419T101330
CREATED:20260220T160224Z
LAST-MODIFIED:20260220T160224Z
UID:883-1791676800-1791676800@carverdalechurch.org
SUMMARY:Mission of Yahweh Service
DESCRIPTION:Mission of Yahweh Service
URL:https://carverdalechurch.org/event/mission-of-yahweh-service-20/
END:VEVENT
BEGIN:VEVENT
DTSTART;TZID=America/Chicago:20261018T000000
DTEND;TZID=America/Chicago:20261018T000000
DTSTAMP:20260419T101330
CREATED:20260220T160224Z
LAST-MODIFIED:20260220T160224Z
UID:884-1792281600-1792281600@carverdalechurch.org
SUMMARY:49th Pastoral Appreciation (Supt. Solomon & Elect-Lady Solomon)
DESCRIPTION:49th Pastoral Appreciation (Supt. Solomon & Elect-Lady Solomon)
URL:https://carverdalechurch.org/event/49th-pastoral-appreciation-supt-solomon-elect-lady-solomon/
END:VEVENT
BEGIN:VEVENT
DTSTART;TZID=America/Chicago:20261025T000000
DTEND;TZID=America/Chicago:20261025T000000
DTSTAMP:20260419T101330
CREATED:20260220T160225Z
LAST-MODIFIED:20260220T160225Z
UID:885-1792886400-1792886400@carverdalechurch.org
SUMMARY:TXSW#1 - Nurse's Unit Workshop (On Zoom)
DESCRIPTION:TXSW#1 – Nurse’s Unit Workshop (On Zoom)
URL:https://carverdalechurch.org/event/txsw1-nurses-unit-workshop-on-zoom-2/
END:VEVENT
BEGIN:VEVENT
DTSTART;TZID=America/Chicago:20261103T000000
DTEND;TZID=America/Chicago:20261110T000000
DTSTAMP:20260419T101330
CREATED:20260220T160225Z
LAST-MODIFIED:20260220T160225Z
UID:886-1793664000-1794268800@carverdalechurch.org
SUMMARY:COGIC National Holy Convocation / General Assembly (St. Louis\, Missouri)
DESCRIPTION:COGIC National Holy Convocation / General Assembly (St. Louis\, Missouri)
URL:https://carverdalechurch.org/event/cogic-national-holy-convocation-general-assembly-st-louis-missouri/
END:VEVENT
BEGIN:VEVENT
DTSTART;TZID=America/Chicago:20261108T000000
DTEND;TZID=America/Chicago:20261108T000000
DTSTAMP:20260419T101330
CREATED:20260220T160226Z
LAST-MODIFIED:20260220T160226Z
UID:887-1794096000-1794096000@carverdalechurch.org
SUMMARY:Mission of Yahweh Service
DESCRIPTION:Mission of Yahweh Service
URL:https://carverdalechurch.org/event/mission-of-yahweh-service-21/
END:VEVENT
BEGIN:VEVENT
DTSTART;TZID=America/Chicago:20261129T000000
DTEND;TZID=America/Chicago:20261129T000000
DTSTAMP:20260419T101330
CREATED:20260220T160239Z
LAST-MODIFIED:20260220T160239Z
UID:888-1795910400-1795910400@carverdalechurch.org
SUMMARY:CCF Women's Day Service
DESCRIPTION:CCF Women’s Day Service
URL:https://carverdalechurch.org/event/ccf-womens-day-service-7/
END:VEVENT
BEGIN:VEVENT
DTSTART;TZID=America/Chicago:20261206T150000
DTEND;TZID=America/Chicago:20261206T150000
DTSTAMP:20260419T101330
CREATED:20260220T160239Z
LAST-MODIFIED:20260220T160239Z
UID:889-1796569200-1796569200@carverdalechurch.org
SUMMARY:Community Fellowship Service (Location: Carverdale)
DESCRIPTION:Community Fellowship Service 3PM (Location: Carverdale)
URL:https://carverdalechurch.org/event/community-fellowship-service-location-carverdale/
END:VEVENT
BEGIN:VEVENT
DTSTART;TZID=America/Chicago:20261212T000000
DTEND;TZID=America/Chicago:20261212T000000
DTSTAMP:20260419T101330
CREATED:20260220T160240Z
LAST-MODIFIED:20260220T160240Z
UID:890-1797033600-1797033600@carverdalechurch.org
SUMMARY:TXSW#1 - AIM Banquet
DESCRIPTION:TXSW#1 – AIM Banquet
URL:https://carverdalechurch.org/event/txsw1-aim-banquet/
END:VEVENT
BEGIN:VEVENT
DTSTART;TZID=America/Chicago:20261213T000000
DTEND;TZID=America/Chicago:20261213T000000
DTSTAMP:20260419T101330
CREATED:20260220T160240Z
LAST-MODIFIED:20260220T160240Z
UID:891-1797120000-1797120000@carverdalechurch.org
SUMMARY:Mission of Yahweh Service
DESCRIPTION:Mission of Yahweh Service
URL:https://carverdalechurch.org/event/mission-of-yahweh-service-22/
END:VEVENT
BEGIN:VEVENT
DTSTART;TZID=America/Chicago:20261220T000000
DTEND;TZID=America/Chicago:20261220T000000
DTSTAMP:20260419T101330
CREATED:20260220T160241Z
LAST-MODIFIED:20260220T160241Z
UID:892-1797724800-1797724800@carverdalechurch.org
SUMMARY:CCF Christmas Program (Morning Service)
DESCRIPTION:CCF Christmas Program (Morning Service)
URL:https://carverdalechurch.org/event/ccf-christmas-program-morning-service/
END:VEVENT
BEGIN:VEVENT
DTSTART;TZID=America/Chicago:20261231T000000
DTEND;TZID=America/Chicago:20261231T000000
DTSTAMP:20260419T101330
CREATED:20260220T160254Z
LAST-MODIFIED:20260220T160254Z
UID:893-1798675200-1798675200@carverdalechurch.org
SUMMARY:NYE Service (Thursday Night)
DESCRIPTION:NYE Service (Thursday Night)
URL:https://carverdalechurch.org/event/nye-service-thursday-night/
END:VEVENT
END:VCALENDAR